BEGIN:VCALENDAR
VERSION:2.0
PRODID:-//Woman Leader Network - ECPv5.1.0//NONSGML v1.0//EN
CALSCALE:GREGORIAN
METHOD:PUBLISH
X-WR-CALNAME:Woman Leader Network
X-ORIGINAL-URL:https://wl.taxar.pro
X-WR-CALDESC:Eventos para Woman Leader Network
BEGIN:VTIMEZONE
TZID:Europe/Madrid
BEGIN:DAYLIGHT
TZOFFSETFROM:+0100
TZOFFSETTO:+0200
TZNAME:CEST
DTSTART:20200329T010000
END:DAYLIGHT
BEGIN:STANDARD
TZOFFSETFROM:+0200
TZOFFSETTO:+0100
TZNAME:CET
DTSTART:20201025T010000
END:STANDARD
END:VTIMEZONE
BEGIN:VEVENT
DTSTART;TZID=Europe/Madrid:20200225T093000
DTEND;TZID=Europe/Madrid:20200225T113000
DTSTAMP:20260419T115145
CREATED:20200214T104326Z
LAST-MODIFIED:20200214T104442Z
UID:1857-1582623000-1582630200@wl.taxar.pro
SUMMARY:Desayuno con la Excelentísima Embajadora de Costa Rica\, Ana Helena Chacón
DESCRIPTION:Inauguramos nuestra serie de DESAYUNOS DIPLOMÁTICOS del Programa #Impulsainternacional con COSTA RICA como país invitado. \nNos acompañará en este exclusivo encuentro Ana Helena Chacón\, Excelentísima Embajadora de Costa Rica y podremos conocer las múltiples OPORTUNIDADES EXISTENTES EN COSTA RICA PARA EMPRESARIOS Y EMPRESARIAS DE ESPAÑA. Un país amigo y maravilloso conocido por su espectacular naturaleza pero que tiene mucho más que ofrecer a las iniciativas empresariales. Costa Rica es ¡PURA VIDA! \nPresentaremos la Misión Comercial a Costa Rica de nuestro Programa Impulsa Internacional para Internacionalización de las empresas españolas. \nPaís Invitado: COSTA RICA \nCharlaremos con: Excelentísima Embajadora de Costa Rica\, Ana Elena Chacón \nLugar del encuentro: CASACLUB MADRID. Calle Pinar\, 17 \n¿Cuándo?: Martes\, 25 de Febrero de 2020 a las 9:30 AM \nDesayuno cortesía de CASACLUB MADRID \n*PLAZAS LIMITADAS. Se requiere registro para poder asistir al evento. \n
URL:https://wl.taxar.pro/evento/desayuno-con-la-excelentisima-embajadora-de-costa-rica-ana-helena-chacon/
LOCATION:CASACLUB MADRID\, Calle Pinar\, 17\, Madrid\, Madrid\, 28006\, España
CATEGORIES:Conferencias y Congresos
ATTACH;FMTTYPE=image/jpeg:https://wl.taxar.pro/wp-content/uploads/2020/02/DESAYUNOS_DIPLOMATICOS_COSTARICA.jpeg
END:VEVENT
END:VCALENDAR